BEGIN:VCALENDAR
VERSION:2.0
PRODID:https://www.kufer.de/kuferweb / DE
METHOD:PUBLISH
CALSCALE:GREGORIAN
X-WR-TIMEZONE:Europe/Berlin
BEGIN:VTIMEZONE
TZID:Europe/Berlin
X-LIC-LOCATION:Europe/Berlin
BEGIN:DAYLIGHT
TZOFFSETFROM:+0100
TZOFFSETTO:+0200
TZNAME:CEST
DTSTART:19700329T020000
RRULE:FREQ=YEARLY;INTERVAL=1;BYDAY=-1SU;BYMONTH=3
END:DAYLIGHT
BEGIN:STANDARD
TZOFFSETFROM:+0200
TZOFFSETTO:+0100
TZNAME:CET
DTSTART:19701025T030000
RRULE:FREQ=YEARLY;INTERVAL=1;BYDAY=-1SU;BYMONTH=10
END:STANDARD
END:VTIMEZONE
BEGIN:VEVENT
DTSTAMP:20260421T150201
DTSTART;TZID=Europe/Berlin:20261102T180000
DTEND;TZID=Europe/Berlin:20261102T200000
UID:262-30530-20261102T180000@VHSAHRENSBURG
SUMMARY:Ernährung in den Wechseljahren – von Verstehen hin zu Umsetzen (262-30530) 
LOCATION:Bahnhofstraße 24, 22926 Ahrensburg, Haus der vhs, E.5, Seminarraum
END:VEVENT
BEGIN:VEVENT
DTSTAMP:20260421T150201
DTSTART;TZID=Europe/Berlin:20261109T180000
DTEND;TZID=Europe/Berlin:20261109T200000
UID:262-30530-20261109T180000@VHSAHRENSBURG
SUMMARY:Ernährung in den Wechseljahren – von Verstehen hin zu Umsetzen (262-30530) 
LOCATION:Bahnhofstraße 24, 22926 Ahrensburg, Haus der vhs, E.5, Seminarraum
END:VEVENT
BEGIN:VEVENT
DTSTAMP:20260421T150201
DTSTART;TZID=Europe/Berlin:20261116T180000
DTEND;TZID=Europe/Berlin:20261116T200000
UID:262-30530-20261116T180000@VHSAHRENSBURG
SUMMARY:Ernährung in den Wechseljahren – von Verstehen hin zu Umsetzen (262-30530) 
LOCATION:Bahnhofstraße 24, 22926 Ahrensburg, Haus der vhs, E.5, Seminarraum
END:VEVENT
BEGIN:VEVENT
DTSTAMP:20260421T150201
DTSTART;TZID=Europe/Berlin:20261121T100000
DTEND;TZID=Europe/Berlin:20261121T130000
UID:262-30530-20261121T100000@VHSAHRENSBURG
SUMMARY:Ernährung in den Wechseljahren – von Verstehen hin zu Umsetzen (262-30530) 
LOCATION:Wulfsdorfer Weg 71, 22926 Ahrensburg, Selma-Lagerlöf-Gemeinschaftsschule, Küche
END:VEVENT
END:VCALENDAR