BEGIN:VCALENDAR
VERSION:2.0
PRODID:https://www.kufer.de/kuferweb / DE
METHOD:PUBLISH
CALSCALE:GREGORIAN
X-WR-TIMEZONE:Europe/Berlin
BEGIN:VTIMEZONE
TZID:Europe/Berlin
X-LIC-LOCATION:Europe/Berlin
BEGIN:DAYLIGHT
TZOFFSETFROM:+0100
TZOFFSETTO:+0200
TZNAME:CEST
DTSTART:19700329T020000
RRULE:FREQ=YEARLY;INTERVAL=1;BYDAY=-1SU;BYMONTH=3
END:DAYLIGHT
BEGIN:STANDARD
TZOFFSETFROM:+0200
TZOFFSETTO:+0100
TZNAME:CET
DTSTART:19701025T030000
RRULE:FREQ=YEARLY;INTERVAL=1;BYDAY=-1SU;BYMONTH=10
END:STANDARD
END:VTIMEZONE
BEGIN:VEVENT
DTSTAMP:20260421T144446
DTSTART;TZID=Europe/Berlin:20261205T103000
DTEND;TZID=Europe/Berlin:20261205T143000
UID:262-30521-20261205T103000@VHSAHRENSBURG
SUMMARY:Indische Festliche Menü mit Curry, Suppe und Beilagen für die Winterzeit  (262-30521) 
LOCATION:Wulfsdorfer Weg 71, 22926 Ahrensburg, Selma-Lagerlöf-Gemeinschaftsschule, Küche
END:VEVENT
END:VCALENDAR