BEGIN:VCALENDAR
VERSION:2.0
PRODID:https://www.kufer.de/kuferweb / DE
METHOD:PUBLISH
CALSCALE:GREGORIAN
X-WR-TIMEZONE:Europe/Berlin
BEGIN:VTIMEZONE
TZID:Europe/Berlin
X-LIC-LOCATION:Europe/Berlin
BEGIN:DAYLIGHT
TZOFFSETFROM:+0100
TZOFFSETTO:+0200
TZNAME:CEST
DTSTART:19700329T020000
RRULE:FREQ=YEARLY;INTERVAL=1;BYDAY=-1SU;BYMONTH=3
END:DAYLIGHT
BEGIN:STANDARD
TZOFFSETFROM:+0200
TZOFFSETTO:+0100
TZNAME:CET
DTSTART:19701025T030000
RRULE:FREQ=YEARLY;INTERVAL=1;BYDAY=-1SU;BYMONTH=10
END:STANDARD
END:VTIMEZONE
BEGIN:VEVENT
DTSTAMP:20260421T165440
DTSTART;TZID=Europe/Berlin:20260919T103000
DTEND;TZID=Europe/Berlin:20260919T143000
UID:262-30520-20260919T103000@VHSAHRENSBURG
SUMMARY:Namastey Ayurveda - Indischer Curry, Suppe und Beilagen für den Herbst mit Ayurvedische Art. (262-30520) 
LOCATION:Wulfsdorfer Weg 71, 22926 Ahrensburg, Selma-Lagerlöf-Gemeinschaftsschule, Küche
END:VEVENT
END:VCALENDAR