BEGIN:VCALENDAR
VERSION:2.0
PRODID:https://www.kufer.de/kuferweb / DE
METHOD:PUBLISH
CALSCALE:GREGORIAN
X-WR-TIMEZONE:Europe/Berlin
BEGIN:VTIMEZONE
TZID:Europe/Berlin
X-LIC-LOCATION:Europe/Berlin
BEGIN:DAYLIGHT
TZOFFSETFROM:+0100
TZOFFSETTO:+0200
TZNAME:CEST
DTSTART:19700329T020000
RRULE:FREQ=YEARLY;INTERVAL=1;BYDAY=-1SU;BYMONTH=3
END:DAYLIGHT
BEGIN:STANDARD
TZOFFSETFROM:+0200
TZOFFSETTO:+0100
TZNAME:CET
DTSTART:19701025T030000
RRULE:FREQ=YEARLY;INTERVAL=1;BYDAY=-1SU;BYMONTH=10
END:STANDARD
END:VTIMEZONE
BEGIN:VEVENT
DTSTAMP:20260421T172408
DTSTART;TZID=Europe/Berlin:20260126T183000
DTEND;TZID=Europe/Berlin:20260126T193000
UID:261-30206-20260126T183000@VHSAHRENSBURG
SUMMARY:Full body workout in english (261-30206) 
LOCATION:Fritz-Reuter-Straße 51 - 53, 22926 Ahrensburg, Fritz-Reuter-Schule, Turnhalle
END:VEVENT
BEGIN:VEVENT
DTSTAMP:20260421T172408
DTSTART;TZID=Europe/Berlin:20260202T183000
DTEND;TZID=Europe/Berlin:20260202T193000
UID:261-30206-20260202T183000@VHSAHRENSBURG
SUMMARY:Full body workout in english (261-30206) 
LOCATION:Fritz-Reuter-Straße 51 - 53, 22926 Ahrensburg, Fritz-Reuter-Schule, Turnhalle
END:VEVENT
BEGIN:VEVENT
DTSTAMP:20260421T172408
DTSTART;TZID=Europe/Berlin:20260209T183000
DTEND;TZID=Europe/Berlin:20260209T193000
UID:261-30206-20260209T183000@VHSAHRENSBURG
SUMMARY:Full body workout in english (261-30206) 
LOCATION:Fritz-Reuter-Straße 51 - 53, 22926 Ahrensburg, Fritz-Reuter-Schule, Turnhalle
END:VEVENT
BEGIN:VEVENT
DTSTAMP:20260421T172408
DTSTART;TZID=Europe/Berlin:20260216T183000
DTEND;TZID=Europe/Berlin:20260216T193000
UID:261-30206-20260216T183000@VHSAHRENSBURG
SUMMARY:Full body workout in english (261-30206) 
LOCATION:Fritz-Reuter-Straße 51 - 53, 22926 Ahrensburg, Fritz-Reuter-Schule, Turnhalle
END:VEVENT
BEGIN:VEVENT
DTSTAMP:20260421T172408
DTSTART;TZID=Europe/Berlin:20260223T183000
DTEND;TZID=Europe/Berlin:20260223T193000
UID:261-30206-20260223T183000@VHSAHRENSBURG
SUMMARY:Full body workout in english (261-30206) 
LOCATION:Fritz-Reuter-Straße 51 - 53, 22926 Ahrensburg, Fritz-Reuter-Schule, Turnhalle
END:VEVENT
BEGIN:VEVENT
DTSTAMP:20260421T172408
DTSTART;TZID=Europe/Berlin:20260302T183000
DTEND;TZID=Europe/Berlin:20260302T193000
UID:261-30206-20260302T183000@VHSAHRENSBURG
SUMMARY:Full body workout in english (261-30206) 
LOCATION:Fritz-Reuter-Straße 51 - 53, 22926 Ahrensburg, Fritz-Reuter-Schule, Turnhalle
END:VEVENT
BEGIN:VEVENT
DTSTAMP:20260421T172408
DTSTART;TZID=Europe/Berlin:20260309T183000
DTEND;TZID=Europe/Berlin:20260309T193000
UID:261-30206-20260309T183000@VHSAHRENSBURG
SUMMARY:Full body workout in english (261-30206) 
LOCATION:Fritz-Reuter-Straße 51 - 53, 22926 Ahrensburg, Fritz-Reuter-Schule, Turnhalle
END:VEVENT
BEGIN:VEVENT
DTSTAMP:20260421T172408
DTSTART;TZID=Europe/Berlin:20260316T183000
DTEND;TZID=Europe/Berlin:20260316T193000
UID:261-30206-20260316T183000@VHSAHRENSBURG
SUMMARY:Full body workout in english (261-30206) 
LOCATION:Fritz-Reuter-Straße 51 - 53, 22926 Ahrensburg, Fritz-Reuter-Schule, Turnhalle
END:VEVENT
BEGIN:VEVENT
DTSTAMP:20260421T172408
DTSTART;TZID=Europe/Berlin:20260420T183000
DTEND;TZID=Europe/Berlin:20260420T193000
UID:261-30206-20260420T183000@VHSAHRENSBURG
SUMMARY:Full body workout in english (261-30206) 
LOCATION:Fritz-Reuter-Straße 51 - 53, 22926 Ahrensburg, Fritz-Reuter-Schule, Turnhalle
END:VEVENT
BEGIN:VEVENT
DTSTAMP:20260421T172408
DTSTART;TZID=Europe/Berlin:20260427T183000
DTEND;TZID=Europe/Berlin:20260427T193000
UID:261-30206-20260427T183000@VHSAHRENSBURG
SUMMARY:Full body workout in english (261-30206) 
LOCATION:Fritz-Reuter-Straße 51 - 53, 22926 Ahrensburg, Fritz-Reuter-Schule, Turnhalle
END:VEVENT
BEGIN:VEVENT
DTSTAMP:20260421T172408
DTSTART;TZID=Europe/Berlin:20260504T183000
DTEND;TZID=Europe/Berlin:20260504T193000
UID:261-30206-20260504T183000@VHSAHRENSBURG
SUMMARY:Full body workout in english (261-30206) 
LOCATION:Fritz-Reuter-Straße 51 - 53, 22926 Ahrensburg, Fritz-Reuter-Schule, Turnhalle
END:VEVENT
BEGIN:VEVENT
DTSTAMP:20260421T172408
DTSTART;TZID=Europe/Berlin:20260511T183000
DTEND;TZID=Europe/Berlin:20260511T193000
UID:261-30206-20260511T183000@VHSAHRENSBURG
SUMMARY:Full body workout in english (261-30206) 
LOCATION:Fritz-Reuter-Straße 51 - 53, 22926 Ahrensburg, Fritz-Reuter-Schule, Turnhalle
END:VEVENT
BEGIN:VEVENT
DTSTAMP:20260421T172408
DTSTART;TZID=Europe/Berlin:20260518T183000
DTEND;TZID=Europe/Berlin:20260518T193000
UID:261-30206-20260518T183000@VHSAHRENSBURG
SUMMARY:Full body workout in english (261-30206) 
LOCATION:Fritz-Reuter-Straße 51 - 53, 22926 Ahrensburg, Fritz-Reuter-Schule, Turnhalle
END:VEVENT
BEGIN:VEVENT
DTSTAMP:20260421T172408
DTSTART;TZID=Europe/Berlin:20260601T183000
DTEND;TZID=Europe/Berlin:20260601T193000
UID:261-30206-20260601T183000@VHSAHRENSBURG
SUMMARY:Full body workout in english (261-30206) 
LOCATION:Fritz-Reuter-Straße 51 - 53, 22926 Ahrensburg, Fritz-Reuter-Schule, Turnhalle
END:VEVENT
BEGIN:VEVENT
DTSTAMP:20260421T172408
DTSTART;TZID=Europe/Berlin:20260608T183000
DTEND;TZID=Europe/Berlin:20260608T193000
UID:261-30206-20260608T183000@VHSAHRENSBURG
SUMMARY:Full body workout in english (261-30206) 
LOCATION:Fritz-Reuter-Straße 51 - 53, 22926 Ahrensburg, Fritz-Reuter-Schule, Turnhalle
END:VEVENT
END:VCALENDAR