BEGIN:VCALENDAR
VERSION:2.0
PRODID:https://www.kufer.de/kuferweb / DE
METHOD:PUBLISH
CALSCALE:GREGORIAN
X-WR-TIMEZONE:Europe/Berlin
BEGIN:VTIMEZONE
TZID:Europe/Berlin
X-LIC-LOCATION:Europe/Berlin
BEGIN:DAYLIGHT
TZOFFSETFROM:+0100
TZOFFSETTO:+0200
TZNAME:CEST
DTSTART:19700329T020000
RRULE:FREQ=YEARLY;INTERVAL=1;BYDAY=-1SU;BYMONTH=3
END:DAYLIGHT
BEGIN:STANDARD
TZOFFSETFROM:+0200
TZOFFSETTO:+0100
TZNAME:CET
DTSTART:19701025T030000
RRULE:FREQ=YEARLY;INTERVAL=1;BYDAY=-1SU;BYMONTH=10
END:STANDARD
END:VTIMEZONE
BEGIN:VEVENT
DTSTAMP:20260423T121952
DTSTART;TZID=Europe/Berlin:20260515T190000
DTEND;TZID=Europe/Berlin:20260515T203000
UID:261-30015-20260515T190000@VHSAHRENSBURG
SUMMARY:Tennis für Anfänger und Wiedereinsteiger (261-30015) 
LOCATION:Brauner Hirsch 80, 22926 Ahrensburg, SSC Hagen (Tennisplätze)
END:VEVENT
BEGIN:VEVENT
DTSTAMP:20260423T121952
DTSTART;TZID=Europe/Berlin:20260522T190000
DTEND;TZID=Europe/Berlin:20260522T203000
UID:261-30015-20260522T190000@VHSAHRENSBURG
SUMMARY:Tennis für Anfänger und Wiedereinsteiger (261-30015) 
LOCATION:Brauner Hirsch 80, 22926 Ahrensburg, SSC Hagen (Tennisplätze)
END:VEVENT
BEGIN:VEVENT
DTSTAMP:20260423T121952
DTSTART;TZID=Europe/Berlin:20260529T190000
DTEND;TZID=Europe/Berlin:20260529T203000
UID:261-30015-20260529T190000@VHSAHRENSBURG
SUMMARY:Tennis für Anfänger und Wiedereinsteiger (261-30015) 
LOCATION:Brauner Hirsch 80, 22926 Ahrensburg, SSC Hagen (Tennisplätze)
END:VEVENT
BEGIN:VEVENT
DTSTAMP:20260423T121952
DTSTART;TZID=Europe/Berlin:20260605T190000
DTEND;TZID=Europe/Berlin:20260605T203000
UID:261-30015-20260605T190000@VHSAHRENSBURG
SUMMARY:Tennis für Anfänger und Wiedereinsteiger (261-30015) 
LOCATION:Brauner Hirsch 80, 22926 Ahrensburg, SSC Hagen (Tennisplätze)
END:VEVENT
BEGIN:VEVENT
DTSTAMP:20260423T121952
DTSTART;TZID=Europe/Berlin:20260612T190000
DTEND;TZID=Europe/Berlin:20260612T203000
UID:261-30015-20260612T190000@VHSAHRENSBURG
SUMMARY:Tennis für Anfänger und Wiedereinsteiger (261-30015) 
LOCATION:Brauner Hirsch 80, 22926 Ahrensburg, SSC Hagen (Tennisplätze)
END:VEVENT
BEGIN:VEVENT
DTSTAMP:20260423T121952
DTSTART;TZID=Europe/Berlin:20260619T190000
DTEND;TZID=Europe/Berlin:20260619T203000
UID:261-30015-20260619T190000@VHSAHRENSBURG
SUMMARY:Tennis für Anfänger und Wiedereinsteiger (261-30015) 
LOCATION:Brauner Hirsch 80, 22926 Ahrensburg, SSC Hagen (Tennisplätze)
END:VEVENT
END:VCALENDAR